BEGIN:VCALENDAR
VERSION:2.0
PRODID:Raspberry Pi Events
CALSCALE:GREGORIAN
BEGIN:VEVENT
DTSTAMP:20260422T155928Z
UID:a42ce52d-e386-46f6-b173-0253d3ed2a27
DTSTART:20260502T090000Z
DTEND:20260502T110000Z
CLASS:PUBLIC
DESCRIPTION:The Exeter Raspberry Pi Jam takes place the first Saturday of e
 very month 10 am - 12 noon at Exeter Library.\n\nCome and show your projec
 t\, come to look\, come to learn — or just have a chat about it — kids
  and adults can have a go with a range of CamJam kits and Raspberry Pi pro
 jects. (Minors must be accompanied\, please.)\n\nhttps://events.raspberryp
 i.com/community/dbfad4a3-4bb6-4b34-8f0c-8e1aae8a648a
LOCATION:Rougemont Room\, Exeter Central Library\, Exeter EX4 3PQ\, United 
 Kingdom
SUMMARY:Exeter Raspberry Pi Jam
END:VEVENT
END:VCALENDAR
