BEGIN:VCALENDAR
VERSION:2.0
PRODID:Raspberry Pi Events
CALSCALE:GREGORIAN
BEGIN:VEVENT
DTSTAMP:20260420T164526Z
UID:1555a500-ec8f-4cd8-b83a-0e8da0bb249d
DTSTART:20260606T133000Z
DTEND:20260606T153000Z
CLASS:PUBLIC
DESCRIPTION:Most software engineers have never held a circuit board with th
 eir own code running on it. Pi Jam Uyo is built to change that — in a si
 ngle afternoon.\n\nThis is a hybrid hackathon jam held in Uyo\, Akwa Ibom\
 , open to developers of all levels who want to experience the physical wor
 ld their software could be touching. Working in small teams around a Raspb
 erry Pi 5 and Pico 2 microcontrollers\, participants choose one of five bu
 ild challenges: running a fully offline AI agent (no cloud\, no API key) t
 hat can read real sensor data\; building a smart plug energy monitor that 
 visualises live power consumption\; setting up a Pi-hole DNS server that b
 locks ads for every device on the network\; wiring a temperature/humidity 
 sensor to a live Grafana dashboard\; or building a personal weather statio
 n from scratch.\n\nWe open with a short talk on the hardware industry — 
 drones\, defence\, industrial IoT\, agritech — where embedded software i
 s not a side project but the core product. We'll also cover how to source 
 hardware locally in Nigeria (Swiftberry.ng\, Microscale.ng) and internatio
 nally.\n\nBy the end of the session\, every team will have something real 
 running on real hardware — and a clear idea of what to build next.\n\nSu
 itable for: software engineers\, web developers\, CS students\, and anyone
  who writes code and wants to know what happens when it leaves the screen.
  No hardware experience required.\n\nFormat: Hybrid — in-person (Uyo\, A
 kwa Ibom) + online stream. Approximately 4 hours.\n\nhttps://events.raspbe
 rrypi.com/community/c2b86e7b-6d7a-4bdf-a838-59779f5877cf
SUMMARY:Pi Jam Uyo
END:VEVENT
END:VCALENDAR
