BEGIN:VCALENDAR
VERSION:2.0
PRODID:Raspberry Pi Events
CALSCALE:GREGORIAN
BEGIN:VEVENT
DTSTAMP:20260420T193924Z
UID:8b81526f-e693-4a90-b926-0a5caf1ee0c0
DTSTART:20260420T233000Z
DTEND:20260421T013000Z
CLASS:PUBLIC
DESCRIPTION:Este proyecto consiste en una cinta transportadora automatizada
  controlada con Raspberry Pi\, capaz de detectar el color de cubos y clasi
 ficarlos automáticamente en distintos contenedores.\n\nUtiliza sensores d
 e color y un sistema mecánico (como un servo o compuerta) que se activa s
 egún el color detectado\, simulando procesos reales de la industria.\n\nE
 s una experiencia práctica donde los niños aprenden conceptos de program
 ación\, electrónica y automatización de forma divertida y aplicada.\n\n
 https://events.raspberrypi.com/community/68b0a25f-cc4d-4a7f-924f-6582bed82
 977
LOCATION:dr luis barrios 259\, dr luis brailer 267\, Santiago del Estero\, 
 Argentina
SUMMARY:automatizacion
END:VEVENT
END:VCALENDAR
