BEGIN:VCALENDAR
VERSION:2.0
PRODID:Raspberry Pi Events
CALSCALE:GREGORIAN
BEGIN:VEVENT
DTSTAMP:20260420T165206Z
UID:9d70e164-b806-4fe9-80fd-98250404ef84
DTSTART:20260516T120000Z
DTEND:20260516T150000Z
CLASS:PUBLIC
DESCRIPTION:Raspberry JAM 2026 - FERNANDEZ - Santiago del Estero. En la aca
 demia de New Dreams . Esta jornada ofrece una oportunidad para que niños 
 entusiastas experimenten\, aprendan y compartan conocimientos sobre el des
 arrollo de proyectos tecnológicos utilizando la placa Raspberry Pi. Tenem
 os planificadas actividades para niños y adolescentes. Contaremos con cha
 rlas inspiradoras y talleres interactivos\, en busca de continuar expandie
 ndo nuestra comunidad tecnológica.\n\nhttps://events.raspberrypi.com/comm
 unity/6179210e-4dda-41c5-867f-41a623e44d4e
LOCATION:Academia New Dreams\, Av. Jesús Fernández\, G4322 Fernández\, S
 antiago del Estero\, Fernandez - Santiago del Estero\, Argentina
SUMMARY:Raspberry JAM 2026 - Aniversario Pi Day - Santiago del Estero
END:VEVENT
END:VCALENDAR
