BEGIN:VCALENDAR
VERSION:2.0
PRODID:Raspberry Pi Events
CALSCALE:GREGORIAN
BEGIN:VEVENT
DTSTAMP:20260420T165206Z
UID:0f58261d-4c81-428a-b802-b7a4a400c83b
DTSTART:20260510T094500Z
DTEND:20260510T110000Z
CLASS:PUBLIC
DESCRIPTION:Experience an exciting day of curiosity\, learning\, and hands-
 on fun with **Raspberry Pi** at the BK Centre\, Manipal!\n\nGet to know th
 e Raspberry Pi microcontroller ecosystem with the **Pi Pico2W** adding wif
 i onto the RP2350 based Pico2.\nWith 2 RISC-v and 2 ARM Cortex cores the *
 *Pico2/RP2350** family is more powerful than ever with lots of room to exp
 eriment\, taking everything good about the RP2040 and making it better\n\n
 Enjoy demos of **AI HAT+ 2** based around the new Hailo 10H module geared 
 towards Generative AI\, to run image and text generation on the edge!\n\nB
 e an active participant in the event for a **chance to win** 1 of 5 Pico 2
 W microcontroller boards.\n\nhttps://events.raspberrypi.com/community/2c74
 829e-4151-4ce2-a4c9-9df846b9f747
LOCATION:Brahma Kumaris\, Flat No-003\, Green Fortune Apartments\, Omshanti
  Road\, Manipal-Perampally Road\, Manipal\, 576104\, Udupi\, India
SUMMARY:Raspberry Pi Jam @ Manipal
END:VEVENT
END:VCALENDAR
