BEGIN:VCALENDAR
VERSION:2.0
PRODID:Raspberry Pi Events
CALSCALE:GREGORIAN
BEGIN:VEVENT
DTSTAMP:20260420T164526Z
UID:cdb6c8c5-c247-427d-8666-dab924e0dd99
DTSTART:20260516T120000Z
DTEND:20260516T160000Z
CLASS:PUBLIC
DESCRIPTION:Come one\, come all to the Northern Ireland Raspberry Jam!\n\nI
 n collaboration with the School of Physics and Mathematics at Queen's and 
 the Northern Ireland Raspberry Jam team\, these free monthly events involv
 e tinkering\, coding\, electronics\, and generally just having a stack of 
 fun making stuff!\n\nWhether you want to try out computer programming for 
 the first time\, hack some electronics\, or just generally have some fun i
 nventing\, we have something for everyone!\n\nAll equipment is provided an
 d we have activities for ages 6–106\, from complete beginners right up t
 o seasoned Raspberry Pi experts. Plus\, like all our Raspberry Jam events\
 , it's completely free! So what are you waiting for?\n\nFor child safeguar
 ding purposes\, all children under the age of 16 must be accompanied by an
  adult throughout the event.\n\nhttps://events.raspberrypi.com/community/1
 0fbd056-8cc2-44cd-8bff-592366d8b674
LOCATION:School of Maths and Physics Teaching Centre\, Queen's University\,
  7-9 College Park E\, Belfast\, United Kingdom
SUMMARY:Northern Ireland Raspberry Jam
END:VEVENT
END:VCALENDAR
